BEGIN:VCALENDAR
VERSION:2.0
PRODID:-//Schule Breiter Hagen - ECPv6.0.5//NONSGML v1.0//EN
CALSCALE:GREGORIAN
METHOD:PUBLISH
X-WR-CALNAME:Schule Breiter Hagen
X-ORIGINAL-URL:https://schulebreiterhagen.de
X-WR-CALDESC:Veranstaltungen für Schule Breiter Hagen
REFRESH-INTERVAL;VALUE=DURATION:PT1H
X-Robots-Tag:noindex
X-PUBLISHED-TTL:PT1H
BEGIN:VTIMEZONE
TZID:Europe/Berlin
BEGIN:DAYLIGHT
TZOFFSETFROM:+0100
TZOFFSETTO:+0200
TZNAME:CEST
DTSTART:20250330T010000
END:DAYLIGHT
BEGIN:STANDARD
TZOFFSETFROM:+0200
TZOFFSETTO:+0100
TZNAME:CET
DTSTART:20251026T010000
END:STANDARD
END:VTIMEZONE
BEGIN:VEVENT
DTSTART;TZID=Europe/Berlin:20251203T134500
DTEND;TZID=Europe/Berlin:20251203T160000
DTSTAMP:20260422T152746
CREATED:20251110T075339Z
LAST-MODIFIED:20251110T075339Z
UID:6734-1764769500-1764777600@schulebreiterhagen.de
SUMMARY:Gesamtkonferenz
DESCRIPTION:
URL:https://schulebreiterhagen.de/event/gesamtkonferenz-20/
CATEGORIES:Konferenz
END:VEVENT
END:VCALENDAR