BEGIN:VCALENDAR
VERSION:2.0
PRODID:-//Schule Breiter Hagen - ECPv6.0.5//NONSGML v1.0//EN
CALSCALE:GREGORIAN
METHOD:PUBLISH
X-ORIGINAL-URL:https://schulebreiterhagen.de
X-WR-CALDESC:Veranstaltungen für Schule Breiter Hagen
REFRESH-INTERVAL;VALUE=DURATION:PT1H
X-Robots-Tag:noindex
X-PUBLISHED-TTL:PT1H
BEGIN:VTIMEZONE
TZID:Europe/Berlin
BEGIN:DAYLIGHT
TZOFFSETFROM:+0100
TZOFFSETTO:+0200
TZNAME:CEST
DTSTART:20250330T010000
END:DAYLIGHT
BEGIN:STANDARD
TZOFFSETFROM:+0200
TZOFFSETTO:+0100
TZNAME:CET
DTSTART:20251026T010000
END:STANDARD
END:VTIMEZONE
BEGIN:VEVENT
DTSTART;TZID=Europe/Berlin:20251110T133000
DTEND;TZID=Europe/Berlin:20251110T153000
DTSTAMP:20260422T153053
CREATED:20251110T073137Z
LAST-MODIFIED:20251110T073137Z
UID:6713-1762781400-1762788600@schulebreiterhagen.de
SUMMARY:Vorstellung der Einschulungskinder aus der Kita Altwildungen
DESCRIPTION:Termine siehe Einladung
URL:https://schulebreiterhagen.de/event/vorstellung-der-einschulungskinder-aus-der-kita-altwildungen/
CATEGORIES:Information
END:VEVENT
BEGIN:VEVENT
DTSTART;TZID=Europe/Berlin:20251112T134500
DTEND;TZID=Europe/Berlin:20251112T160000
DTSTAMP:20260422T153053
CREATED:20251110T074432Z
LAST-MODIFIED:20251110T074432Z
UID:6723-1762955100-1762963200@schulebreiterhagen.de
SUMMARY:Klassenkonferenzen der Klassen 1-4
DESCRIPTION:Die Elternrückmeldung im Bereich Arbeits- und Sozialverhalten\, die Förderpläne und die vorbeugenden Maßnahmen werden besprochen.
URL:https://schulebreiterhagen.de/event/klassenkonferenzen-der-klassen-1-4/
CATEGORIES:Konferenz
END:VEVENT
BEGIN:VEVENT
DTSTART;TZID=Europe/Berlin:20251117T133000
DTEND;TZID=Europe/Berlin:20251117T153000
DTSTAMP:20260422T153053
CREATED:20251110T073428Z
LAST-MODIFIED:20251110T073428Z
UID:6715-1763386200-1763393400@schulebreiterhagen.de
SUMMARY:Vorstellung der Einschulungskinder aus der Kita Friedenskirche
DESCRIPTION:Termin siehe Einladung
URL:https://schulebreiterhagen.de/event/vorstellung-der-einschulungskinder-aus-der-kita-friedenskirche/
CATEGORIES:Information
END:VEVENT
BEGIN:VEVENT
DTSTART;TZID=Europe/Berlin:20251117T190000
DTEND;TZID=Europe/Berlin:20251117T203000
DTSTAMP:20260422T153053
CREATED:20251110T072535Z
LAST-MODIFIED:20251110T072535Z
UID:6707-1763406000-1763411400@schulebreiterhagen.de
SUMMARY:Infoabend Weiterführende Schulen
DESCRIPTION:Der Infoabend findet für alle Grundschulen unserer Region in diesem Jahr in der Aula der Schule Breiter Hagen statt. Um Anmeldung wird über die Rückmeldezettel gebeten.
URL:https://schulebreiterhagen.de/event/infoabend-weiterfuehrende-schulen-2/
CATEGORIES:Elternabend
END:VEVENT
BEGIN:VEVENT
DTSTART;VALUE=DATE:20251119
DTEND;VALUE=DATE:20251120
DTSTAMP:20260422T153053
CREATED:20251110T075056Z
LAST-MODIFIED:20251110T075056Z
UID:6730-1763510400-1763596799@schulebreiterhagen.de
SUMMARY:Prüfung 2. Staatsexamen
DESCRIPTION:
URL:https://schulebreiterhagen.de/event/pruefung-2-staatsexamen/
CATEGORIES:Information
END:VEVENT
BEGIN:VEVENT
DTSTART;TZID=Europe/Berlin:20251121T083000
DTEND;TZID=Europe/Berlin:20251121T092000
DTSTAMP:20260422T153053
CREATED:20251110T075245Z
LAST-MODIFIED:20251110T075245Z
UID:6732-1763713800-1763716800@schulebreiterhagen.de
SUMMARY:Bundesweiter Vorlesetag - Motto: Vorlesen spricht deine Sprache
DESCRIPTION:
URL:https://schulebreiterhagen.de/event/bundesweiter-vorlesetag-motto-vorlesen-spricht-deine-sprache/
CATEGORIES:Veranstaltung
END:VEVENT
BEGIN:VEVENT
DTSTART;TZID=Europe/Berlin:20251122T100000
DTEND;TZID=Europe/Berlin:20251122T120000
DTSTAMP:20260422T153053
CREATED:20251110T072958Z
LAST-MODIFIED:20251110T072958Z
UID:6711-1763805600-1763812800@schulebreiterhagen.de
SUMMARY:"4 trifft 5" an der Integrierten Gesamtschule Edertal
DESCRIPTION:Veranstaltung für die Schülerinnen und Schüler der Klasse 4 mit unterschiedlichen Programmen für Kinder und ihre Eltern
URL:https://schulebreiterhagen.de/event/4-trifft-5-an-der-integrierten-gesamtschule-edertal/
CATEGORIES:Information
END:VEVENT
BEGIN:VEVENT
DTSTART;TZID=Europe/Berlin:20251125T133000
DTEND;TZID=Europe/Berlin:20251125T153000
DTSTAMP:20260422T153053
CREATED:20251110T073928Z
LAST-MODIFIED:20251110T073928Z
UID:6721-1764077400-1764084600@schulebreiterhagen.de
SUMMARY:Vorstellung der Einschulungskinder aus Webers Kita
DESCRIPTION:Termin siehe Einladung
URL:https://schulebreiterhagen.de/event/vorstellung-der-einschulungskinder-aus-webers-kita/
CATEGORIES:Information
END:VEVENT
BEGIN:VEVENT
DTSTART;TZID=Europe/Berlin:20251126T100000
DTEND;TZID=Europe/Berlin:20251126T123000
DTSTAMP:20260422T153053
CREATED:20251110T074947Z
LAST-MODIFIED:20251110T075020Z
UID:6727-1764151200-1764160200@schulebreiterhagen.de
SUMMARY:Theater en miniatur
DESCRIPTION:Das Theater en miniatur spielt für unsere Schülerinnen und Schüler das Stück “Das Glückskind” in der Turnhalle. Der Eintritt von 5 € wird von den Klassenlehrkräften eingesammelt.
URL:https://schulebreiterhagen.de/event/theater-en-miniatur-2/
CATEGORIES:Veranstaltung
END:VEVENT
BEGIN:VEVENT
DTSTART;TZID=Europe/Berlin:20251126T133000
DTEND;TZID=Europe/Berlin:20251126T150000
DTSTAMP:20260422T153053
CREATED:20251110T074522Z
LAST-MODIFIED:20251110T074522Z
UID:6725-1764163800-1764169200@schulebreiterhagen.de
SUMMARY:Jahrgangsteamtreffen
DESCRIPTION:
URL:https://schulebreiterhagen.de/event/jahrgangsteamtreffen-30/
CATEGORIES:Konferenz
END:VEVENT
BEGIN:VEVENT
DTSTART;TZID=Europe/Berlin:20251126T143000
DTEND;TZID=Europe/Berlin:20251126T153000
DTSTAMP:20260422T153053
CREATED:20251110T073826Z
LAST-MODIFIED:20251110T073826Z
UID:6719-1764167400-1764171000@schulebreiterhagen.de
SUMMARY:Vorstellung der Einschulungskinder aus der Kita Friedenskirche
DESCRIPTION:Termin siehe Einladung
URL:https://schulebreiterhagen.de/event/vorstellung-der-einschulungskinder-aus-der-kita-friedenskirche-2/
CATEGORIES:Information
END:VEVENT
BEGIN:VEVENT
DTSTART;TZID=Europe/Berlin:20251129T100000
DTEND;TZID=Europe/Berlin:20251129T130000
DTSTAMP:20260422T153053
CREATED:20251110T072732Z
LAST-MODIFIED:20251110T072732Z
UID:6709-1764410400-1764421200@schulebreiterhagen.de
SUMMARY:Tag der offenen Tür an der Ense-Schule
DESCRIPTION:
URL:https://schulebreiterhagen.de/event/tag-der-offenen-tuer-an-der-ense-schule/
CATEGORIES:Information
END:VEVENT
END:VCALENDAR