BEGIN:VCALENDAR
VERSION:2.0
PRODID:-//Schule Breiter Hagen - ECPv6.0.5//NONSGML v1.0//EN
CALSCALE:GREGORIAN
METHOD:PUBLISH
X-ORIGINAL-URL:https://schulebreiterhagen.de
X-WR-CALDESC:Veranstaltungen für Schule Breiter Hagen
REFRESH-INTERVAL;VALUE=DURATION:PT1H
X-Robots-Tag:noindex
X-PUBLISHED-TTL:PT1H
BEGIN:VTIMEZONE
TZID:Europe/Berlin
BEGIN:DAYLIGHT
TZOFFSETFROM:+0100
TZOFFSETTO:+0200
TZNAME:CEST
DTSTART:20250330T010000
END:DAYLIGHT
BEGIN:STANDARD
TZOFFSETFROM:+0200
TZOFFSETTO:+0100
TZNAME:CET
DTSTART:20251026T010000
END:STANDARD
BEGIN:DAYLIGHT
TZOFFSETFROM:+0100
TZOFFSETTO:+0200
TZNAME:CEST
DTSTART:20260329T010000
END:DAYLIGHT
BEGIN:STANDARD
TZOFFSETFROM:+0200
TZOFFSETTO:+0100
TZNAME:CET
DTSTART:20261025T010000
END:STANDARD
END:VTIMEZONE
BEGIN:VEVENT
DTSTART;TZID=Europe/Berlin:20251203T134500
DTEND;TZID=Europe/Berlin:20251203T160000
DTSTAMP:20260422T135621
CREATED:20251110T075339Z
LAST-MODIFIED:20251110T075339Z
UID:6734-1764769500-1764777600@schulebreiterhagen.de
SUMMARY:Gesamtkonferenz
DESCRIPTION:
URL:https://schulebreiterhagen.de/event/gesamtkonferenz-20/
CATEGORIES:Konferenz
END:VEVENT
BEGIN:VEVENT
DTSTART;TZID=Europe/Berlin:20251209T180000
DTEND;TZID=Europe/Berlin:20251209T190000
DTSTAMP:20260422T135621
CREATED:20251110T075416Z
LAST-MODIFIED:20251110T075416Z
UID:6736-1765303200-1765306800@schulebreiterhagen.de
SUMMARY:Schulkonferenz
DESCRIPTION:
URL:https://schulebreiterhagen.de/event/schulkonferenz-5/
CATEGORIES:Konferenz
END:VEVENT
BEGIN:VEVENT
DTSTART;TZID=Europe/Berlin:20251210T133000
DTEND;TZID=Europe/Berlin:20251210T153000
DTSTAMP:20260422T135621
CREATED:20251110T073655Z
LAST-MODIFIED:20251110T073655Z
UID:6717-1765373400-1765380600@schulebreiterhagen.de
SUMMARY:Vorstellung der Einschulungskinder aus dem Familienzentrum - intergrative Kindertagesstätte
DESCRIPTION:Termin siehe Einladung
URL:https://schulebreiterhagen.de/event/vorstellung-der-einschulungskinder-aus-dem-familienzentrum-intergrative-kindertagesstaette/
CATEGORIES:Information
END:VEVENT
BEGIN:VEVENT
DTSTART;TZID=Europe/Berlin:20251218T083000
DTEND;TZID=Europe/Berlin:20251218T091500
DTSTAMP:20260422T135621
CREATED:20251110T075616Z
LAST-MODIFIED:20251110T075616Z
UID:6738-1766046600-1766049300@schulebreiterhagen.de
SUMMARY:Weihnachtsgottesdienst
DESCRIPTION:
URL:https://schulebreiterhagen.de/event/weihnachtsgottesdienst/
CATEGORIES:Veranstaltung
END:VEVENT
BEGIN:VEVENT
DTSTART;TZID=Europe/Berlin:20251219T080000
DTEND;TZID=Europe/Berlin:20251219T084500
DTSTAMP:20260422T135621
CREATED:20251110T075700Z
LAST-MODIFIED:20251110T075700Z
UID:6740-1766131200-1766133900@schulebreiterhagen.de
SUMMARY:Weihnachtsgottesdienst Altwildungen
DESCRIPTION:
URL:https://schulebreiterhagen.de/event/weihnachtsgottesdienst-altwildungen-3/
CATEGORIES:Veranstaltung
END:VEVENT
BEGIN:VEVENT
DTSTART;VALUE=DATE:20251222
DTEND;VALUE=DATE:20260110
DTSTAMP:20260422T135621
CREATED:20251110T075745Z
LAST-MODIFIED:20251110T075745Z
UID:6742-1766361600-1768003199@schulebreiterhagen.de
SUMMARY:Weihnachtsferien
DESCRIPTION:
URL:https://schulebreiterhagen.de/event/weihnachtsferien-4/
CATEGORIES:Ferien
END:VEVENT
END:VCALENDAR