BEGIN:VCALENDAR
VERSION:2.0
PRODID:-//Schule Breiter Hagen - ECPv6.0.5//NONSGML v1.0//EN
CALSCALE:GREGORIAN
METHOD:PUBLISH
X-WR-CALNAME:Schule Breiter Hagen
X-ORIGINAL-URL:https://schulebreiterhagen.de
X-WR-CALDESC:Veranstaltungen für Schule Breiter Hagen
REFRESH-INTERVAL;VALUE=DURATION:PT1H
X-Robots-Tag:noindex
X-PUBLISHED-TTL:PT1H
BEGIN:VTIMEZONE
TZID:Europe/Berlin
BEGIN:DAYLIGHT
TZOFFSETFROM:+0100
TZOFFSETTO:+0200
TZNAME:CEST
DTSTART:20250330T010000
END:DAYLIGHT
BEGIN:STANDARD
TZOFFSETFROM:+0200
TZOFFSETTO:+0100
TZNAME:CET
DTSTART:20251026T010000
END:STANDARD
BEGIN:DAYLIGHT
TZOFFSETFROM:+0100
TZOFFSETTO:+0200
TZNAME:CEST
DTSTART:20260329T010000
END:DAYLIGHT
BEGIN:STANDARD
TZOFFSETFROM:+0200
TZOFFSETTO:+0100
TZNAME:CET
DTSTART:20261025T010000
END:STANDARD
END:VTIMEZONE
BEGIN:VEVENT
DTSTART;VALUE=DATE:20251222
DTEND;VALUE=DATE:20260110
DTSTAMP:20260422T123321
CREATED:20251110T075745Z
LAST-MODIFIED:20251110T075745Z
UID:6742-1766361600-1768003199@schulebreiterhagen.de
SUMMARY:Weihnachtsferien
DESCRIPTION:
URL:https://schulebreiterhagen.de/event/weihnachtsferien-4/
CATEGORIES:Ferien
END:VEVENT
BEGIN:VEVENT
DTSTART;TZID=Europe/Berlin:20260114T133000
DTEND;TZID=Europe/Berlin:20260114T150000
DTSTAMP:20260422T123321
CREATED:20260113T074149Z
LAST-MODIFIED:20260113T074149Z
UID:6898-1768397400-1768402800@schulebreiterhagen.de
SUMMARY:Jahrgangsteamtreffen
DESCRIPTION:
URL:https://schulebreiterhagen.de/event/jahrgangsteamtreffen-31/
CATEGORIES:Konferenz
END:VEVENT
BEGIN:VEVENT
DTSTART;TZID=Europe/Berlin:20260121T134500
DTEND;TZID=Europe/Berlin:20260121T160000
DTSTAMP:20260422T123321
CREATED:20260113T074233Z
LAST-MODIFIED:20260113T074233Z
UID:6900-1769003100-1769011200@schulebreiterhagen.de
SUMMARY:Zeugniskonferenzen der Klassen 3 und 4
DESCRIPTION:
URL:https://schulebreiterhagen.de/event/zeugniskonferenzen-der-klassen-3-und-4-2/
CATEGORIES:Konferenz
END:VEVENT
BEGIN:VEVENT
DTSTART;TZID=Europe/Berlin:20260126T080000
DTEND;TZID=Europe/Berlin:20260126T130000
DTSTAMP:20260422T123321
CREATED:20260113T074341Z
LAST-MODIFIED:20260113T074341Z
UID:6902-1769414400-1769432400@schulebreiterhagen.de
SUMMARY:Schulpsychologin Frau Peipert im Haus
DESCRIPTION:Terminvereinbarungen von Eltern über das Schulsekretariat möglich
URL:https://schulebreiterhagen.de/event/schulpsychologin-frau-peipert-im-haus/
CATEGORIES:Information
END:VEVENT
BEGIN:VEVENT
DTSTART;TZID=Europe/Berlin:20260130T080000
DTEND;TZID=Europe/Berlin:20260130T103500
DTSTAMP:20260422T123321
CREATED:20260113T074511Z
LAST-MODIFIED:20260113T074511Z
UID:6904-1769760000-1769769300@schulebreiterhagen.de
SUMMARY:Ende des 1. Schulhalbjahres
DESCRIPTION:Zeugnisse für die Klassen 3 und 4 \nUnterrichtsende 10:35 Uhr- Betreuung wie gewohnt im Anschluss
URL:https://schulebreiterhagen.de/event/ende-des-1-schulhalbjahres/
CATEGORIES:Information
END:VEVENT
END:VCALENDAR